BEGIN:VCALENDAR
VERSION:2.0
PRODID:-//wp-events-plugin.com//7.2.3.1//EN
TZID:Europe/Zurich
X-WR-TIMEZONE:Europe/Zurich
BEGIN:VEVENT
UID:20@aussenpolitik.ch
DTSTART:20250506T180000Z
DTEND:20250506T193000Z
DTSTAMP:20250428T090544Z
URL:https://www.aussenpolitik.ch/events/la-declaration-schuman-du-9-mai-19
 50-75-ans-de-defis-europeens-hier-comme-aujourdhui/
SUMMARY:La déclaration Schuman du 9 mai 1950: 75 ans de défis européens\
 , hier comme aujourd’hui
DESCRIPTION:La déclaration Schuman du 9 mai 1950: 75 ans de défis europé
 ens\, hier comme aujourd’hui.\nConférence du professeur Gilbert Casasus
 \n6 mai 2025\, 18h-19h30\nFerme de Dorigny\, Lausanne\n\nLe 6 mai 2025 à 
 la Ferme de Dorigny (Campus de l’Université de Lausanne)\, la Fondation
  aura le plaisir de recevoir Gilbert Casasus\, historien et politologue\, 
 professeur émérite en études européennes à l’Université de Fribour
 g\, pour une conférence sur les 75 ans de la déclaration Schuman.\n\nLe 
 9 mai 1950\, au début de la Guerre froide et moins d’un an après la di
 vision de l’Allemagne\, la déclaration de Robert Schuman donna naissanc
 e au processus d’intégration européenne. La Communauté européenne du
  charbon et de l’acier (CECA)\, dont l’idée portait la signature de J
 ean Monnet\, fut le premier traité d’une histoire à laquelle peu croya
 ient à l’époque. De six\, l’Europe communautaire est passée à 27 
 États membres. Pourtant\, l’indispensable regard historique ne suffit p
 as à lui seul pour comprendre et analyser une période de paix\, mais aus
 si de rivalités et de rapports de force\, qui s’est transformée en ép
 opée. En lieu et place de 75 ans de construction européenne\, laissons a
 lors la place à l’analyse d’une situation concrète\, nonobstant les 
 défis auxquels une Union européenne\, peut-être insuffisamment prépar
 ée\, doit désormais répondre\, sans oublier un seul instant pourquoi el
 le fut créée et surtout ne pas renoncer une seconde à sa raison d’êt
 re.\n\nLa conférence\, qui inclura une session de questions-réponses ave
 c le public\, est ouverte à tous mais nécessite une inscription. Il est 
 aussi possible de la suivre en direct grâce au lien ci dessous.\n\nUn ap
 éritif sera offert à l’issue de la conférence.\n\nInscription\nAccès
  youtube
END:VEVENT
END:VCALENDAR